BEGIN:VCALENDAR
VERSION:2.0
PRODID:-//hacksw/handcal//NONSGML v1.0//EN
BEGIN:VEVENT
SUMMARY:M15 RES_UODL HB1 contre Ent MHC
UID:d0f3a43e-940e-46ec-ae9b-1fdc3dd8e451
DTSTART:20260307T143000Z
DTEND:20260307T160000Z
LOCATION:Localisation   
CATEGORIES:Sportif
STATUS:
URL;VALUE=URI:https://heyrieuxhandball.sportsregions.fr/evenements/2026/03/07/m15-res-uodl-hb1-contre-ent-mhc-2421744
END:VEVENT
END:VCALENDAR
